BEGIN:VCALENDAR
VERSION:2.0
PRODID:-//https://www.bayridgelawyers.org///NONSGML kigkonsult.se iCalcreator 2.10.15//
METHOD:PUBLISH
BEGIN:VEVENT
UID:20260421T080552UTC-15657wubVz@https://www.bayridgelawyers.org/
DTSTAMP:20260421T080552Z
DESCRIPTION: https://www.bayridgelawyers.org/cles-brl-events/past-events/ev
 ent/29-sunset-rooftop-event
DTSTART:20240620T220000Z
DTEND:20240621T020000Z
LOCATION:Sunset Rooftop (14B 53rd St\, Brooklyn\, New York\, 11232)
SUMMARY:Sunset Rooftop Event
URL:https://www.bayridgelawyers.org/cles-brl-events/past-events/event/29-su
 nset-rooftop-event
END:VEVENT
END:VCALENDAR
