BEGIN:VCALENDAR
VERSION:2.0
PRODID:-//https://www.bayridgelawyers.org///NONSGML kigkonsult.se iCalcreator 2.10.15//
METHOD:PUBLISH
BEGIN:VEVENT
UID:20260421T080645UTC-640056vK5R@https://www.bayridgelawyers.org/
DTSTAMP:20260421T080645Z
DESCRIPTION: https://www.bayridgelawyers.org/cles-brl-events/past-events/ev
 ent/32-general-membership-meeting
DTSTART:20241120T230000Z
DTEND:20241121T040000Z
LOCATION:Mama Rao's (6408 11th Ave\, Brooklyn\, NY 11219\, USA)
SUMMARY:General Membership Meeting
URL:https://www.bayridgelawyers.org/cles-brl-events/past-events/event/32-ge
 neral-membership-meeting
END:VEVENT
END:VCALENDAR
