BEGIN:VCALENDAR
VERSION:2.0
PRODID:-//https://www.bayridgelawyers.org///NONSGML kigkonsult.se iCalcreator 2.10.15//
METHOD:PUBLISH
BEGIN:VEVENT
UID:20260421T093724UTC-384468tZ5k@https://www.bayridgelawyers.org/
DTSTAMP:20260421T093724Z
DESCRIPTION:FEATURED SPEAKERS:- JANE G. CARBONARO ARRABITO\, ESQ. - DERAILE
 RS TO A REAL ESTATE TRANSACTION … HOW DO INDUSTRY PROFESSIONALS CONTROL TH
 EIR TRANSACTION AND AVOID A DERAILER?- CHARLES G. FIORE\, ESQ. - TEN POINT
 S ON SURROGATE'S COURT PRACTICE- Y. GAIL GOODE\, ESQ. - HOW TO NAVIGATE SO
 CIAL MEDIA AND AVOIDING PITFALLS- WILLIAM A. NERI\, ESQ. - THE CONSTITUTIO
 NALITY OF RECIDIVIST SENTENCING IN NEW YORK STATERACHEL WILSON &amp\;&nbsp
 \;ERIC A. DINAPOLI\, ESQ. - STRENGTHENING YOUR CYBERSECURITY&nbsp\;STRATEG
 IES IN A NEW AGE OF TECHNOLOGY\nEvents Include:Thursday Evening\, 8:00 – 1
 1:00 p.m.: Cocktail Party At “CUBA LIBRE”Friday Afternoon\, 12:00 - 5:00 p
 .m.: Seminar with Light LunchFriday Evening\, 7:00 – 10:00 p.m.: Closing D
 inner with Cocktail Hour at “CARMINE’S\nRATES ARE AS FOLLOWS:Hotel Room *:
  ($55/night for Thursday &amp\; $199/night for Friday) –Call Tropicana for
  reservations: (888) 516-2215 and use CODE: ST02BR5 or with link&nbsp\;htt
 ps://book.passkey.com/e/50947376* Plus applicable taxes\, occupancy and to
 urism fees.Please Reserve your room by February 13\, 2025. Capacity is lim
 ited.\nThis Event Has Been Generously Sponsored By:ANNUAL SPONSORS: - CITI
 ZENS BANK - EMPIRE STATE BANK - LEAP - MORGAN STANLEY - NORTHFIELD BANK\nE
 VENT SPONSORS: - REGAL TITLE AGENCY - MONACO &amp\; MONACO\, LLP\nCOCKTAIL
  HOUR SPONSOR: THE VINCENT P. CARBONARO SCHOLARSHIP FUND\nPLEASE NOTE THAT
 \, IN ORDER FOR THE BRLA TO MEET ITS MINIMUM OCCUPANCY GUARANTIES FOR EACH
  EVENT YOUR REGISTRATION MUST BE RECEIVED BY FEBRUARY 13\, 2025. REGISTRAT
 IONS RECEIVED AFTER FEBRUARY 13\, 2025\, CANNOT BE GUARANTIED AND ARE SUBJ
 ECT TO A FIFTEEN (15%) PERCENT INCREASE IN THE STATED TICKET PRICES. https
 ://www.bayridgelawyers.org/cles-brl-events/past-events/event/36-cle-winter
 -seminar-2025
DTSTART:20250228T010000Z
DTEND:20250301T030000Z
LOCATION:Tropicana Atlantic City (2831 Boardwalk\, Atlantic City\, NJ 08401
 \, United States)
SUMMARY:CLE Winter Seminar 2025
URL:https://www.bayridgelawyers.org/cles-brl-events/past-events/event/36-cl
 e-winter-seminar-2025
END:VEVENT
END:VCALENDAR
