BEGIN:VCALENDAR
VERSION:2.0
PRODID:-//https://www.bayridgelawyers.org///NONSGML kigkonsult.se iCalcreator 2.10.15//
METHOD:PUBLISH
BEGIN:VEVENT
UID:20260421T080613UTC-9748x5BCPn@https://www.bayridgelawyers.org/
DTSTAMP:20260421T080613Z
DESCRIPTION: https://www.bayridgelawyers.org/cles-brl-events/past-events/ev
 ent/39-general-membership-meeting
DTSTART:20250430T220000Z
DTEND:20250501T030000Z
LOCATION:Mama Rao's (6408 11th Ave\, Brooklyn\, NY 11219\, USA)
SUMMARY:General Membership Meeting
URL:https://www.bayridgelawyers.org/cles-brl-events/past-events/event/39-ge
 neral-membership-meeting
END:VEVENT
END:VCALENDAR
