BEGIN:VCALENDAR
VERSION:2.0
PRODID:-//https://www.bayridgelawyers.org///NONSGML kigkonsult.se iCalcreator 2.10.15//
METHOD:PUBLISH
BEGIN:VEVENT
UID:20260421T080645UTC-6316O5e4Ro@https://www.bayridgelawyers.org/
DTSTAMP:20260421T080645Z
DESCRIPTION: https://www.bayridgelawyers.org/cles-brl-events/past-events/ev
 ent/41-general-membership-meeting
DTSTART:20250528T220000Z
DTEND:20250529T030000Z
LOCATION:Mama Rao's (6408 11th Ave\, Brooklyn\, NY 11219\, USA)
SUMMARY:General Membership Meeting
URL:https://www.bayridgelawyers.org/cles-brl-events/past-events/event/41-ge
 neral-membership-meeting
END:VEVENT
END:VCALENDAR
