BEGIN:VCALENDAR
VERSION:2.0
PRODID:-//https://www.bayridgelawyers.org///NONSGML kigkonsult.se iCalcreator 2.10.15//
METHOD:PUBLISH
BEGIN:VEVENT
UID:20260421T093551UTC-80086hsWo6@https://www.bayridgelawyers.org/
DTSTAMP:20260421T093551Z
DESCRIPTION: https://www.bayridgelawyers.org/cles-brl-events/past-events/ev
 ent/42-annual-dinner-dance
DTSTART:20250625T223000Z
DTEND:20250626T034500Z
LOCATION:The Vanderbilt at South Beach (300 Father Capodanno Blvd\, Staten 
 Island\, New York\, 10305)
SUMMARY:Annual Dinner Dance
URL:https://www.bayridgelawyers.org/cles-brl-events/past-events/event/42-an
 nual-dinner-dance
END:VEVENT
END:VCALENDAR
