BEGIN:VCALENDAR
VERSION:2.0
PRODID:-//https://www.bayridgelawyers.org///NONSGML kigkonsult.se iCalcreator 2.10.15//
METHOD:PUBLISH
BEGIN:VEVENT
UID:20260421T081435UTC-5018slMJom@https://www.bayridgelawyers.org/
DTSTAMP:20260421T081435Z
DESCRIPTION: https://www.bayridgelawyers.org/cles-brl-events/past-events/ev
 ent/44-passing-of-the-gavel-september-meeting
DTSTART:20250918T220000Z
DTEND:20250919T030000Z
LOCATION:Mama Rao's (6408 11th Ave\, Brooklyn\, NY 11219\, USA)
SUMMARY:Passing of the Gavel/September Meeting
URL:https://www.bayridgelawyers.org/cles-brl-events/past-events/event/44-pa
 ssing-of-the-gavel-september-meeting
END:VEVENT
END:VCALENDAR
