BEGIN:VCALENDAR
VERSION:2.0
PRODID:-//https://www.bayridgelawyers.org///NONSGML kigkonsult.se iCalcreator 2.10.15//
METHOD:PUBLISH
BEGIN:VEVENT
UID:20260421T080822UTC-1001HaCa8j@https://www.bayridgelawyers.org/
DTSTAMP:20260421T080822Z
DESCRIPTION: https://www.bayridgelawyers.org/cles-brl-events/past-events/ev
 ent/46-november-cle-meeting
DTSTART:20251119T230000Z
DTEND:20251120T040000Z
LOCATION:Mama Rao's (6408 11th Ave\, Brooklyn\, NY 11219\, USA)
SUMMARY:November CLE Meeting
URL:https://www.bayridgelawyers.org/cles-brl-events/past-events/event/46-no
 vember-cle-meeting
END:VEVENT
END:VCALENDAR
