BEGIN:VCALENDAR
VERSION:2.0
PRODID:-//https://www.bayridgelawyers.org///NONSGML kigkonsult.se iCalcreator 2.10.15//
METHOD:PUBLISH
BEGIN:VEVENT
UID:20260421T080704UTC-7642a3pmAd@https://www.bayridgelawyers.org/
DTSTAMP:20260421T080704Z
DESCRIPTION: https://www.bayridgelawyers.org/cles-brl-events/past-events/ev
 ent/48-breakfast-with-santa-2025
DTSTART:20251213T160023Z
DTEND:20251214T030023Z
LOCATION:Sirico’s Caterers (8023 13th Ave\, Brooklyn\, New York\, 11228)
SUMMARY:Breakfast with Santa 2025
URL:https://www.bayridgelawyers.org/cles-brl-events/past-events/event/48-br
 eakfast-with-santa-2025
END:VEVENT
END:VCALENDAR
