BEGIN:VCALENDAR
VERSION:2.0
PRODID:-//https://www.bayridgelawyers.org///NONSGML kigkonsult.se iCalcreator 2.10.15//
METHOD:PUBLISH
BEGIN:VEVENT
UID:20260421T080849UTC-0705hvcIm2@https://www.bayridgelawyers.org/
DTSTAMP:20260421T080849Z
DESCRIPTION: https://www.bayridgelawyers.org/cles-brl-events/past-events/ev
 ent/49-annual-holiday-party
DTSTART:20260114T233000Z
DTEND:20260115T043000Z
LOCATION:Sirico's (8023 13th Ave\, Brooklyn\, New York\, 11228)
SUMMARY:Annual Holiday Party 
URL:https://www.bayridgelawyers.org/cles-brl-events/past-events/event/49-an
 nual-holiday-party
END:VEVENT
END:VCALENDAR
