BEGIN:VCALENDAR
VERSION:2.0
PRODID:-//https://www.bayridgelawyers.org///NONSGML kigkonsult.se iCalcreator 2.10.15//
METHOD:PUBLISH
BEGIN:VEVENT
UID:20260421T081235UTC-9943I9OhZH@https://www.bayridgelawyers.org/
DTSTAMP:20260421T081235Z
DESCRIPTION: https://www.bayridgelawyers.org/cles-brl-events/past-events/ev
 ent/51-february-cle-dinner-meeting
DTSTART:20260225T230000Z
DTEND:20260226T040000Z
LOCATION:Mama Rao's (6408 11th Ave\, Brooklyn\, NY 11219\, USA)
SUMMARY:February CLE Dinner Meeting
URL:https://www.bayridgelawyers.org/cles-brl-events/past-events/event/51-fe
 bruary-cle-dinner-meeting
END:VEVENT
END:VCALENDAR
