BEGIN:VCALENDAR
VERSION:2.0
PRODID:-//https://www.bayridgelawyers.org///NONSGML kigkonsult.se iCalcreator 2.10.15//
METHOD:PUBLISH
BEGIN:VEVENT
UID:20260421T061336UTC-74698fcnn0@https://www.bayridgelawyers.org/
DTSTAMP:20260421T061336Z
DESCRIPTION: https://www.bayridgelawyers.org/cles-brl-events/past-events/ev
 ent/54-april-cle-meeting
DTSTART:20260415T220000Z
DTEND:20260416T030000Z
LOCATION:Mama Rao's (6408 11th Ave\, Brooklyn\, NY 11219\, USA)
SUMMARY:April CLE Meeting
URL:https://www.bayridgelawyers.org/cles-brl-events/past-events/event/54-ap
 ril-cle-meeting
END:VEVENT
END:VCALENDAR
