BEGIN:VCALENDAR
VERSION:2.0
PRODID:-//https://www.bayridgelawyers.org///NONSGML kigkonsult.se iCalcreator 2.10.15//
METHOD:PUBLISH
BEGIN:VEVENT
UID:20260421T045933UTC-3648PLNN3a@https://www.bayridgelawyers.org/
DTSTAMP:20260421T045933Z
DESCRIPTION: https://www.bayridgelawyers.org/cles-brl-events/event/53-cyclo
 nes-game
DTSTART:20260627T210000Z
DTEND:20260628T030000Z
LOCATION:Maimonides Park (1904 Surf Ave\, Brooklyn\, New York\, 11224)
SUMMARY:Cyclones Game 
URL:https://www.bayridgelawyers.org/cles-brl-events/event/53-cyclones-game
END:VEVENT
BEGIN:VEVENT
UID:20260421T045933UTC-3651lmCP8r@https://www.bayridgelawyers.org/
DTSTAMP:20260421T045933Z
DESCRIPTION: https://www.bayridgelawyers.org/cles-brl-events/event/55-april
 -28-cle-meeting
DTSTART:20260428T220000Z
DTEND:20260429T030000Z
LOCATION:Mama Rao's (6408 11th Ave\, Brooklyn\, NY 11219\, USA)
SUMMARY:April 28 CLE Meeting
URL:https://www.bayridgelawyers.org/cles-brl-events/event/55-april-28-cle-m
 eeting
END:VEVENT
END:VCALENDAR
