BEGIN:VCALENDAR
VERSION:2.0
PRODID:-//https://www.bayridgelawyers.org///NONSGML kigkonsult.se iCalcreator 2.10.15//
METHOD:PUBLISH
BEGIN:VEVENT
UID:20260421T045938UTC-9614LToUcg@https://www.bayridgelawyers.org/
DTSTAMP:20260421T045938Z
DESCRIPTION:National Federation of Italian-American Societies\, Inc. 44th A
 nnual Awards &amp\; Scholarship Presentation Gala Honoring our Past Presid
 ent:\nStephen D. Chiaino\, Esq.\nRecipient of the “Successful and Effectiv
 e Professional Award”\nRSVP by October 17th\, 2016 – $130.00 per person\nC
 lick&nbsp\;Here&nbsp\;for a copy of the Flyer to this event!\nIf you are i
 nterested in attending this event and sitting with the Bay Ridge Lawyer’s 
 Association please email Grace M.&nbsp\;Borrino @ gborrino@abramslaw.com h
 ttps://www.bayridgelawyers.org/other-events/event/11-nfias-honors-bay-ridg
 e-lawyers-past-president-stephen-d-chiaino-esq
DTSTART:20161030T120000Z
DTEND:20161030T123000Z
LOCATION:Gargiulo’s Restaurant (2911 West 15th Street\, Brooklyn\, New York
  11224)
SUMMARY:NFIAS honors Bay Ridge Lawyer’s Past President Stephen D. Chiaino\,
  Esq.
URL:https://www.bayridgelawyers.org/other-events/event/11-nfias-honors-bay-
 ridge-lawyers-past-president-stephen-d-chiaino-esq
END:VEVENT
BEGIN:VEVENT
UID:20260421T045938UTC-96204hGfsX@https://www.bayridgelawyers.org/
DTSTAMP:20260421T045938Z
DESCRIPTION:Columbian Lawyer’s Association of Brooklyn invites you to Celeb
 rate their Golden 50th Anniversary\nRSVP by October 13th\, 2016 – $250.00 
 per person\nClick&nbsp\;Here&nbsp\;for a copy of the Flyer to this event!
 \nIf you are interested in attending this event and sitting with the Bay R
 idge Lawyer’s Association please email Grace M.&nbsp\;Borrino @ gborrino@a
 bramslaw.com https://www.bayridgelawyers.org/other-events/event/12-columbi
 an-lawyers-association-of-brooklyn---golden-50th-anniversary
DTSTART:20161027T183000Z
DTEND:20161028T123000Z
LOCATION:Brooklyn Museum (Beaux-Arts Court\, 3rd Floor – 200 Eastern Parkwa
 y\, Brooklyn\, New York 11238)
SUMMARY:Columbian Lawyer’s Association of Brooklyn – Golden 50th Anniversar
 y
URL:https://www.bayridgelawyers.org/other-events/event/12-columbian-lawyers
 -association-of-brooklyn---golden-50th-anniversary
END:VEVENT
BEGIN:VEVENT
UID:20260421T045938UTC-9623dGVXTd@https://www.bayridgelawyers.org/
DTSTAMP:20260421T045938Z
DESCRIPTION: https://www.bayridgelawyers.org/other-events/event/40-baseball
 -game
DTSTART:20250531T040000Z
DTEND:20250601T034500Z
LOCATION:Brooklyn Cyclones Stadium (1904 Surf Ave\, Brooklyn\, New York\, 1
 1224)
SUMMARY:Baseball Game
URL:https://www.bayridgelawyers.org/other-events/event/40-baseball-game
END:VEVENT
BEGIN:VEVENT
UID:20260421T045938UTC-962475VZ4T@https://www.bayridgelawyers.org/
DTSTAMP:20260421T045938Z
DESCRIPTION: https://www.bayridgelawyers.org/other-events/event/53-cyclones
 -game
DTSTART:20260627T210000Z
DTEND:20260628T030000Z
LOCATION:Maimonides Park (1904 Surf Ave\, Brooklyn\, New York\, 11224)
SUMMARY:Cyclones Game 
URL:https://www.bayridgelawyers.org/other-events/event/53-cyclones-game
END:VEVENT
END:VCALENDAR
